Workbook
Name NASPO: #REF!
Name NASPO: #REF!
Name NASPO: #REF!

Sheet Current Rate Plans
A1: T-Mobile Current Government Rate Plans
A2: Updated: December 2024
A3: State of Oklahoma Statewide Contract #1012
D4: Contract Discount
D5: 0.15
A6: Service or Feature | B6: Description | C6: Commercially Available Price per Line/Month | D6: Monthly Recurring Cost/Line (After Eligible Contract Discount)
B7: Voice & Data Plans
A8: Simple Choice Unlimited Talk and Text w/2GB High Speed Data | B8: • Unlimited talk and text with no overages. • Includes unlimited calling to any number in Mexico and Canada from the U.S. PLUS unlimited calling, texting and data while traveling in Canada and Mexico (use your High Speed data up to 5GB) at no extra charge. • Starting with up to 2GB High Speed data per month. Your choice of additional High Speed data. After monthly allotment, data at 128Kbps with no overages. • Includes 5G access with capable device. • Unlimited data at 128Kbps and texting when you travel to any of 210+ countries and destinations so you can stay connected when you're abroad. • Includes Binge On optimized video streaming that saves your data. • Music Freedom with unlimited music streaming on our network from top services such as Pandora and iHeart Radio without using your data. • Coverage not available in some areas. • Detectable video typically streams at 480p; disable any time. • During congestion, customers on this plan using >50GB/mo. may notice reduced speeds until next bill cycle due to data prioritization. • Requires minimum of 12 lines for each account | C8: 15 | D8: 12.75
A9: Govt Unlim Talk Text and 2GB Data | B9: •Unlimited minutes •Unlimited messaging •2GB high-speed data. Unlimited at 128Kbps after 2GB allotment. •Smartphone Mobile Hotspot. Speeds slow at 2GB allotment. •Domestic data roaming •Music Freedom •Simple Global (Magenta / Advanced experience) •Stateside International Unlimited Texting •Mobile Without Borders •T-Mobile In-Flight Connection (Magenta / Advanced experience) •Voice over LTE and Wi-Fi calling are enabled. | C9: 15 | D9: 12.75
A10: Government Unlimited Select | B10: • Unlimited talk, text, and data on our advanced network with no data overages. • Scam Shield™ app. with Scam ID and Scam Block. • Call, text, and use up to 5GB of High Speed data in Mexico and Canada at no extra charge. • Unlimited text and 2G data roaming in more than 215+ countries and destinations, and 5GB high-speed data in select countries. • Unlimited domestic data roaming and unlimited video streaming in SD quality • 11GB of High Speed hotspot data (with unlimited max 3G hotspot speeds thereafter) • Free texting and a free hour of In-Flight Connection-enabled flights, plus 4 full-flight streaming sessions per year. • During congestion, a small fraction of customers using >100GB/mo. may notice reduced speeds until next bill cycle due to data prioritization. Video typically streams on smartphone/tablet in SD quality (480p) | C10: 29 | D10: 24.65
A11: Government Unlimited Advanced | B11: • Unlimited talk, text, and data on our advanced network with no data overages. • Scam Shield™ app. with Scam ID and Scam Block. • Call, text, and use up to 5GB of High Speed data in Mexico and Canada at no extra charge. • Unlimited text and 2G data roaming in more than 215+ countries and destinations, and 5GB high-speed data in select countries. • Unlimited domestic data roaming and unlimited video streaming in SD quality • 51GB of High Speed hotspot data (with unlimited max 3G hotspot speeds thereafter) • Free texting and a free hour of In-Flight Connection-enabled flights, plus 4 full-flight streaming sessions per year. • During congestion, a small fraction of customers using >100GB/mo. may notice reduced speeds until next bill cycle due to data prioritization. Video typically streams on smartphone/tablet in SD quality (480p) unless you enable HD Video (1080p). | C11: 35 | D11: 29.75
A12: Government Unlimited Ultimate | B12: • Unlimited talk, text, and premium data on our advanced network with no data overages. • Scam Shield™ premium app. with Scam ID and Scam Block. • Call, text, and use up to 5GB of High Speed data in Mexico and Canada at no extra charge. • Unlimited international texting, low-rate calling, and up to 5GB of high-speed data in more than 215 countries and destinations, then unlimited data up to 256kbps speeds. • Unlimited domestic data roaming and unlimited 4K UHD when 4K UHD video is enabled. • 101GB of High Speed hotspot data (with unlimited max 3G hotspot speeds thereafter) •Unlimited in-flight Wi-Fi with streaming and texting where available. •Stream up to 4K UHD video on capable device when feature is activated | C12: 46 | D12: 39.1
A13: Government Unlimited Edge | B13: • Unlimited talk, text, and premium data on our advanced network with no data overages. • Scam Shield™ premium app. with Scam ID and Scam Block. • Unlimited talk, text, and data in Mexico and Canada with up to 15GB of high-speed data (then 2G speeds) at no extra charge. • Unlimited international texting, low-rate calling, and up to 5GB of high-speed data in more than 215 countries and destinations, then unlimited data up to 256kbps speeds. • Unlimited domestic data roaming and unlimited 4K UHD when 4K UHD video is enabled. • 201GB of High Speed hotspot data (with unlimited max 3G hotspot speeds thereafter) •Unlimited in-flight Wi-Fi with streaming and texting where available. •Stream up to 4K UHD video on capable device when feature is activated, or video typically streams on device in SD quality. | C13: 58 | D13: 49.3
A14: Government Unlimited for Phones w/Device Subsidy 1.0 Level 1 | B14: • Unlimited talk, text, and data on our advanced network with no data overages. • Includes 5G access with capable device. • Call, text, and use up to 5GB of High Speed data in Mexico and Canada at no extra charge. • Unlimited text and 2G data roaming in more than 210 countries and destinations • Unlimited domestic data roaming and unlimited video streaming in SD quality • 11GB of High Speed hotspot data (with unlimited max 3G hotspot speeds thereafter) • Free texting and a free hour of In-Flight Connection-enabled flights • During congestion, a small fraction of customers using >50GB/mo. may notice reduced speeds until next bill cycle due to data prioritization. • Subsidy plans include part or all of the cost of a phone in the monthly charge, and a service agreement is required. If you cancel service, you may be charged a pro rata subsidy repayment. | C14: 41 | D14: 34.85
A15: Government Unlimited for Phones w/Device Subsidy 1.0 Level 2 | B15: • Unlimited talk, text, and data on our advanced network with no data overages. • Includes 5G access with capable device. • Call, text, and use up to 5GB of High Speed data in Mexico and Canada at no extra charge. • Unlimited text and 2G data roaming in more than 210 countries and destinations • Unlimited domestic data roaming and unlimited video streaming in SD quality • 11GB of High Speed hotspot data (with unlimited max 3G hotspot speeds thereafter) • Free texting and a free hour of In-Flight Connection-enabled flights • During congestion, a small fraction of customers using >50GB/mo. may notice reduced speeds until next bill cycle due to data prioritization. • Subsidy plans include part or all of the cost of a phone in the monthly charge, and a service agreement is required. If you cancel service, you may be charged a pro rata subsidy repayment. | C15: 53 | D15: 45.05
A16: Government Unlimited for Phones w/Device Subsidy 1.0 Level 3 | B16: • Unlimited talk, text, and data on our advanced network with no data overages. • Includes 5G access with capable device. • Call, text, and use up to 5GB of High Speed data in Mexico and Canada at no extra charge. • Unlimited text and 2G data roaming in more than 210 countries and destinations • Unlimited domestic data roaming and unlimited video streaming in SD quality • 11GB of High Speed hotspot data (with unlimited max 3G hotspot speeds thereafter) • Free texting and a free hour of In-Flight Connection-enabled flights • During congestion, a small fraction of customers using >50GB/mo. may notice reduced speeds until next bill cycle due to data prioritization. • Subsidy plans include part or all of the cost of a phone in the monthly charge, and a service agreement is required. If you cancel service, you may be charged a pro rata subsidy repayment. | C16: 64 | D16: 54.4
A17: Government Unlimited for Phones Data Feature w/21GB Hotspot | B17: Increase Government Unlimited High Speed Hotspot data allotment to 21GB | C17: 10 | D17: 8.5
A18: Government Unlimited for Phones Data Feature w/31GB Hotspot | B18: Increase Government Unlimited High Speed Hotspot data allotment to 31GB | C18: 15 | D18: 12.75
A19: Government Unlimited for Phones Data Feature w/41GB Hotspot | B19: Increase Government Unlimited High Speed Hotspot data allotment to 41GB | C19: 25 | D19: 21.25
... A21: Government Unlimited Advanced Data with 100GB Hotspot | B21: Increase Government Unlimited High Speed Hotspot data allotment to 100GB | C21: 15 | D21: 12.75
B22: Mobile Internet Plans
A23: Simple Choice Mobile Internet Data for Government w/2GB High Speed Data | B23: •High-speed data in the U.S. - plus use up to 5GB of your high-speed data in Canada and Mexico at no extra charge. • Includes 5G access with capable device. •Up to 2 GB of monthly high-speed mobile internet access. •Speeds slowed to up to 2G speeds after 2 GB. • Unlimited data at 128Kbps when you travel to any of 210+ countries and destinations so you can stay connected when you're abroad. •No overages. •Including Binge On - optimized video streaming (typically streams at 480p) AND stream unlimited video on popular services like Netflix, HBO NOW, Hulu and more without using your high-speed data. •Includes Data Stash which rolls your unused on-network High Speed data into your Data Stash bucket up to 20GB that must be used within 12mos. •Stream unlimited music on services like Pandora, iHeartRadio and more without counting against your High Speed data on our network. •During congestion, customers on this plan using >50GB/mo. may notice reduced speeds until next bill cycle due to data prioritization. | C23: 10 | D23: 10
A24: Simple Choice Government Unlimited High Speed Mobile Internet Data | B24: • Unlimited High-speed Mobile Internet Data • Includes 5G access with capable device • Unlimited domestic messaging • Domestic data roaming (50MB/mo.) • Unlimited data at 128Kbps when you travel to any of 210+ countries and destinations so you can stay connected when you're abroad. • Stateside International Unlimited Texting • For use with Tablets/Hotspots/Routers/Modems • During congestion, customers on this plan using >50GB/mo. may notice reduced speeds until next bill cycle due to data prioritization | C24: 35 | D24: 29.75
A25: Government Unlimited Mobile Internet for Tablets w/ 11GB Hotspot | B25: • Unlimited texting and High Speed data on our advanced network with no data overages. • Includes 5G access with capable device. • 11GB of High Speed hotspot data (with unlimited max 3G hotspot speeds thereafter) • Texting and up to 5GB of High Speed data in Mexico and Canada. • Unlimited texting and 2G data roaming in 210+ countries and destinations and unlimited video streaming in SD quality • During congestion, a small fraction of customers using >50GB/mo. may notice reduced speeds until next bill cycle due to data prioritization. | C25: 23.5 | D25: 19.975
A26: Government Unlimited Mobile Internet for Tablets w/ 21GB Hotspot | B26: • Unlimited texting and High Speed data on our advanced network with no data overages. • Includes 5G access with capable device. • 21GB of High Speed hotspot data (with unlimited max 3G hotspot speeds thereafter) • Texting and up to 5GB of High Speed data in Mexico and Canada. • Unlimited texting and 2G data roaming in 210+ countries and destinations and unlimited video streaming in SD quality • During congestion, a small fraction of customers using >50GB/mo. may notice reduced speeds until next bill cycle due to data prioritization. | C26: 35 | D26: 29.75
A27: Government Unlimited Mobile Internet for Tablets w/ 31GB Hotspot | B27: • Unlimited texting and High Speed data on our advanced network with no data overages. • Includes 5G access with capable device. • 31GB of High Speed hotspot data (with unlimited max 3G hotspot speeds thereafter) • Texting and up to 5GB of High Speed data in Mexico and Canada. • Unlimited texting and 2G data roaming in 210+ countries and destinations and unlimited video streaming in SD quality • During congestion, a small fraction of customers using >50GB/mo. may notice reduced speeds until next bill cycle due to data prioritization. | C27: 40.5 | D27: 34.425
A28: Government Unlimited Mobile Internet for Tablets w/ 41GB Hotspot | B28: • Unlimited texting and High Speed data on our advanced network with no data overages. • Includes 5G access with capable device. • 41GB of High Speed hotspot data (with unlimited max 3G hotspot speeds thereafter) • Texting and up to 5GB of High Speed data in Mexico and Canada. • Unlimited texting and 2G data roaming in 210+ countries and destinations and unlimited video streaming in SD quality • During congestion, a small fraction of customers using >50GB/mo. may notice reduced speeds until next bill cycle due to data prioritization. | C28: 52.5 | D28: 44.625
A29: Government Unlimited Plus Tablet 51GB Hotspot | B29: • Unlimited data and messaging as well as 51GB of high-speed mobile hotspot data. • In Canada and Mexico, 15GB of high-speed data (then unlimited data at 128 kbps speed). • Unlimited international texting and up to 5GB of high-speed data (then unlimited data up to 256kbps speeds) in 215+ countries and destinations. • Unlimited HD video streaming. Video typically streams on smartphone/tablet in SD quality (480p) unless you enable HD Video (1080p). • During congestion, customers on this plan using >100GB/mo. may notice reduced speeds until next bill cycle due to data prioritization. | C29: 40.5 | D29: 34.425
A30: Government Unlimited Plus Tablet 76GB Hotspot | B30: • Unlimited data and messaging as well as 76GB of high-speed mobile hotspot data. • In Canada and Mexico, 15GB of high-speed data (then unlimited data at 128 kbps speed). • Unlimited international texting and up to 5GB of high-speed data (then unlimited data up to 256kbps speeds) in 215+ countries and destinations. • Unlimited HD video streaming. Video typically streams on smartphone/tablet in SD quality (480p) unless you enable HD Video (1080p). • During congestion, customers on this plan using >100GB/mo. may notice reduced speeds until next bill cycle due to data prioritization. | C30: 58.5 | D30: 49.725
B31: Business Internet
A32: Government Unlimited High-Speed Internet - Equipment Included | B32: •Unlimited High-Speed Internet •No Data Caps •Static IP Allowed ($2 buy-up) •No Content Filter •Voice barred •No Roaming •During congestion, customers on this plan may notice speeds lower than other customers due to data prioritization. •Subsidized Device Included | C32: 60 | D32: 51
A33: Government Fixed Wireless Unlimited High Speed Internet (Router Plan) | B33: •Unlimited High-Speed Internet •No Data Caps •Static IP Allowed ($2 buy-up) •No Content Filter •Voice barred •No Roaming •During congestion, customers on this plan may notice speeds lower than other customers due to data prioritization. •Subsidized Device may be Available, Subject to Change | C33: 45 | D33: 38.25
A34: Government Fixed Wireless Unlimited High Speed Internet SIM Only | B34: •Unlimited high-speed internet connectivity •Video streams in SD •For use with wireless routers SIM Only •Voice barred •All on-network data counts towards fair-use limits (50GB). Users> 50GB may notice reduced speeds until next bill cycle due to data prioritization | C34: 35 | D34: 29.75
A35: Business 2GB HSI Stacked Fixed Wireless | B35: •Includes 2GB of pooled Fixed Wireless Internet data on our US high-speed network. •$3.75 for each GB after limit, partial megabytes rounded up. | C35: 10 | D35: 10
A36: Business 10GB HSI Stacked Fixed Wireless | B36: •Includes 10GB of pooled Fixed Wireless Internet data on our US high-speed network. •$3.75 for each GB after limit, partial megabytes rounded up. | C36: 25 | D36: 25
A37: Cradlepoint–ENT Config | B37: •Cradlepoint Enterprise Configuration. •Provides primary Wi-Fi, password setup, port security, IDS/IPS, and stateful firewall. •This add on also covers the premium device charge. •The Cradlepoint E-320 router for Business Internet is property of T-Mobile and must be returned if service is canceled | C37: 35 | D37: 35
A38: Cradlepoint–Digital Config | B38: •Cradlepoint Digital Configuration. •Provides port security, IDS/IPS, and stateful firewall. •This configuration disables primary Wi-Fi and password set up. •This add on also covers the premium device charge. •The Cradlepoint E-320 router for Business Internet is property of T-Mobile and must be returned if service is canceled | C38: 35 | D38: 35
A39: Cradlepoint–Passthru Config | B39: •Cradlepoint IP Passthrough Configuration. •Disables primary Wi-Fi, password setup, port security, IDS/IPS, and stateful firewall. •This add on also covers the premium device charge. •The Cradlepoint E-320 router for Business Internet is property of T-Mobile and must be returned if service is canceled | C39: 35 | D39: 35
A40: Cradlepoint–Custom Config (Approval Required) | B40: •Approval is required to use this feature. •Cradlepoint Custom Configuration. •Provides custom settings. •This add on also covers the premium device charge. •The Cradlepoint E-320 router for Business Internet is property of T-Mobile and must be returned if service is canceled | C40: 35 | D40: 35
A41: Inseego Connect Access - Account Level Only | B41: •Inseego Connect Access provides access to Inseego Connect, a cloud based remote manager, for T-Mobile provided Inseego routers. •This service provides Manager level access to the customer's sub-account on T-Mobile's Inseego Connect instance, which allows for remote management of devices. •Please note that for any Inseego device delivered with a Business Internet or GOV Internet Unlimited rate plan, customer cannot move or register these devices to their own Inseego Connect instance. •Feature is only available with Government HSI rate plan on the Inseego FX2000. | C41: 15 | D41: 15
...

Sheet E-Rate
A1: T-Mobile Current Government Rate Plans
A2: Updated: December 2024
A3: State of Oklahoma Statewide Contract #1012
D4: Contract Discount
D5: 0.15
A6: Service or Feature | B6: Description | C6: Commercially Available Price per Line/Month | D6: Monthly Recurring Cost/Line (After Eligible Contract Discount)
B7: E-Rate
A8: Government E-Rate School Bus WiFi Plan (2025-2026) | B8: •This mobile internet plan provides unlimited high-speed data for use with connected WiFi routers. •This plan is designed for use by eligible customers participating in the 2025-2026 E-Rate program. •This plan is intended for Educational/Government use only. •Customer execution of E-Rate Addendum document may be required by T-Mobile. | C8: 29.8 | D8: 29.8
A9: Government E-Rate School Bus WiFi Installation (2025-2026) - Internal Antenna | B9: Available for E-rate only Professional Installation package Internal Antenna, One time-Fee | C9: 475 | D9: 475
A10: Government E-Rate School Bus WiFi Installation (2025-2026) - External Antenna | B10: Available for E-rate only Professional Installation package External Antenna, One time-Fee | C10: 650 | D10: 650
A11: Government E-Rate Library Hotspot (2025-2026) | B11: •This mobile internet plan provides unlimited data for use with tablets and hotspot hardware. •This plan is designed for use by eligible customers participating in the 2025-2026 E-Rate Program. •This plan is intended for Educational/Government use only. •Customer execution of E-Rate Addendum document may be required by T-Mobile. | C11: 11.97 | D11: 11.97

Sheet T-Priority
A1: T-Mobile Current Government Rate Plans
A2: Updated: December 2024
D4: Contract Discount
D5: 0.15
A6: Service or Feature | B6: Description | C6: Commercially Available Price per Line/Month | D6: Monthly Recurring Cost/Line (After Eligible Contract Discount)
B7: T-Priority Voice & Data Plans
A8: T-Priority Advanced (Voice) | B8: •Unlimited talk, text, and high-speed data. •Includes 61 GB high-speed mobile hotspot data •Unlimited international texting, low-rate calling, unlimited talk, text, and up to 5GB of 4G LTE data in Canada and Mexico, then speeds at up to 256kbps and Scam Shield Premium. •Not Subject to the prioritization threshold • Priority Access, Preemption and Basic Performance Baseline for WPS-enrolled first responders, plus automated WPS enrollment. •Compatible with T-Priority SLICE. •For use with smartphones. | C8: 39.5 | D8: 39.5
A9: T-Priority Ultimate (Voice) | B9: •Unlimited talk, text, and high-speed data. •Unlimited high-speed mobile hotspot data. •Unlimited international texting, low-rate calling, unlimited talk, text, and up to 5GB of 4G LTE data in Canada and Mexico, then speeds at up to 256kbps. •Video streaming at up to 4K Ultra High Definition, and Scam Shield Premium. •Not Subject to the prioritization threshold •Priority Access, Preemption and Basic Performance Baseline for WPS-enrolled first responders, plus automated WPS enrollment. •Unlimited high-speed mobile hotspot data. •Compatible with T-Priority SLICE. •For use with smartphones. | C9: 44.5 | D9: 44.5
B10: T-Priority Feature Add-Ons
A11: T-Priority SLICE Primary | B11: The T-Mobile T-Priority add-on feature is intended for use on a T-Mobile SIM based smartphone to provide connectivity to the Internet with the benefits of Priority Access, Preemption, Highest Data Priority and Enhanced Downlink Baseline. | C11: 0 | D11: 0
A12: T-Priority SLICE Extended Primary | B12: Add-on feature intended for use on a compatible device to provide connectivity with the benefits of Highest Data Priority and Enhanced Downlink Baseline. For Extended Primary First Responder organizations on eligible rate plans. | C12: 7.5 | D12: 7.5
A13: T-Priority & SASE Primary ULT Feature | B13: The T-Mobile T-Priority service is intended for use on a T-Mobile SIM based smartphone to provide connectivity to the Internet with the benefits of Priority Access, Preemption, Highest Data Priority and Enhanced Downlink Baseline. This plan is meant for Primary Public Safety officials who actively engage in public safety scenarios like police, fire, FBI, FEMA etc. The T-Mobile SASE Private Access T-SIMsecure with Internet security service license is intended for use on a T-Mobile SIM based smartphone to provide direct connectivity to the organization's intranet and/or directly to the Internet with a suite of security features. T-SIMsecure authentication uses the T-Mobile SIM to automatically provide security capabilities, without a client, when on the T-Mobile network. Alternatively, the Versa Client can be used to connect when not using the T-Mobile network. The Versa Client is to be used by the User of the device for which the SASE license was issued. Hotspot/tethered traffic not protected by T-Mobile SASE. SASE Services are not available for EmpowerEd and Project 10Million rate plans.

Sheet International
A1: T-Mobile Current International Government Rate Plans
A2: Updated: December 2024
A3: State of Oklahoma Statewide Contract #1012
D4: Contract Discount
D5: 0.15
A6: Service or Feature | B6: Description | C6: Commercially Available Price per Line/Month | D6: Monthly Recurring Cost/Line (After Eligible Contract Discount)
B7: International Voice & Data Plans
A8: Global Plus Government Unlimited | B8: •International feature that includes access to email, online documents, messages, maps, videos, and voicemail. •Includes the following while traveling in 215+ countries or destinations: •Unlimited high-speed data for your mobile device •Unlimited calling to and from your mobile device •Unlimited messaging to and from your mobile device. •5 GB of high-speed tethering. •Speeds may vary by country. •100+ lines minimum on account. Approval required. | C8: 50 | D8: 50
A9: Global Plus Simple Choice | B9: •International feature that includes access to email, online documents, messages, maps, videos, and voicemail. •Includes the following while traveling in 215+ countries or destinations: •Unlimited high-speed data for your mobile device •Unlimited calling to and from your mobile device •Unlimited messaging to and from your mobile device. •5 GB of high-speed tethering. •Speeds may vary by country. •100+ lines minimum on account. Approval required. | C9: 50 | D9: 50
A10: Global Elite Government Unlimited | B10: •International feature that includes access to email, online documents, messages, maps, videos, and voicemail. •Includes the following while traveling in 215+ countries or destinations: •Unlimited high-speed data for your mobile device •Unlimited calling to and from your mobile device •Unlimited messaging to and from your mobile device. •15 GB of high-speed tethering. •Speeds may vary by country. •100+ lines minimum on account. Approval required. | C10: 100 | D10: 100
A11: Global Elite Simple Choice | B11: •International feature that includes access to email, online documents, messages, maps, videos, and voicemail. •Includes the following while traveling in 215+ countries or destinations: •Unlimited high-speed data for your mobile device •Unlimited calling to and from your mobile device •Unlimited messaging to and from your mobile device. •15 GB of high-speed tethering. •Speeds may vary by country. •100+ lines minimum on account. Approval required. | C11: 100 | D11: 100
A12: International Voice 1-Day Pass (Voice and Data Lines) | B12: •24 hours of increased international features, with up to 512MB of high-speed data plus Smartphone Mobile Hotspot and unlimited calling in more than 210 Simple Global countries. •Speeds & coverage vary based on device and country. •If all high-speed data is used during the 24-hour period, you will experience slower data speeds but continue to have unlimited calling for the rest of the period. •Authorized users may purchase 10 passes per line to use within 30 days. •Once high-speed data is used on the first pass, the second pass will begin, and the 24-hour period will restart. | C12: 5 | D12: 5
A13: 5GB International Pass up to 10 days (Voice and Data Lines) | B13: •Up to 5GB of high-speed data, including Mobile Hotspot, PLUS unlimited calling for up to 10 days in over 210 Simple Global countries. •Speeds & coverage vary based on device and country. •Once all high-speed data is used, unlimited calling and data will continue for the full 10 days but you may experience slower data speeds. •If all high-speed data is used, and a NEW pass is purchased before the expiration of the first one, the second pass will begin immediately. The original pass and any remaining benefits will expire when the new pass activate is activated. | C13: 35 | D13: 35
A14: 15GB International Pass up to 30 days (Voice and Data Lines) | B14: •Up to 15GB of high-speed data, including Mobile Hotspot, PLUS unlimited calling for up to 30 days in over 210 destinations. •Speeds & coverage vary based on device and country. •Once all high-speed data is used, unlimited calling and data will continue for the full 30 days but you may experience slower data speeds. •If all high-speed data is used, and a NEW pass is purchased before the expiration of the first one, the second pass will begin immediately. The original pass and any remaining benefits will expire when the new pass activate is activated. | C14: 50 | D14: 50
A15: International Voice 1-Day Pass (Mobile Internet Lines) | B15: •For up to 1 day in 215+ countries and destinations, you get: •Up to 512MB of high-speed international data. This data can also be used as a Mobile Hotspot •Calls made via Wi-Fi calling are subject to rates as detailed on the Wi-Fi calling > Billing page. •Data Passes do not work in Non-Simple Global Countries. | C15: 5 | D15: 5
A16: 5GB International Pass up to 10 days (Mobile Internet Lines) | B16: •For up to 10 days in 215+ countries and destinations, you get: •Up to 5GB of high-speed international data. This data can also be used as a Mobile Hotspot •Calls made via Wi-Fi calling are subject to rates as detailed on the Wi-Fi calling > Billing page. •Data Passes do not work in Non-Simple Global Countries. | C16: 35 | D16: 35
A17: 15GB International Pass up to 30 days (Mobile Internet Lines) | B17: •For up to 30 days in 215+ countries and destinations, you get: •Up to 15GB of high-speed international data. This data can also be used as a Mobile Hotspot •Calls made via Wi-Fi calling are subject to rates as detailed on the Wi-Fi calling > Billing page. •Data Passes do not work in Non-Simple Global Countries. | C17: 50 | D17: 50
A18: International Data Pass Auto Deploy - 1 Day 3GB | B18: •Includes 24 hours of up to 3GB high speed data plus Smartphone Mobile Hotspot and unlimited calling in more than 215+ countries and destinations. •If all high speed data is used during the 24 hour period, slower data speeds are experienced but will continue to have unlimited calling for the rest of the period. | C18: 10 | D18: 10
A19: International Data Pass Auto Deploy MI - 1 Day 3GB | B19: •Includes 24 hours of up to 3GB high speed data plus Mobile Hotspot and unlimited calling in more than 215+ countries and destinations. •If all high speed data is used during the 24 hour period, slower data speeds are experienced but will continue to have unlimited calling for the rest of the period. | C19: 10 | D19: 10

Sheet BSS MDM
A1: T-Mobile Current Government Rate Plans
A2: Business Sofware Solutions (BSS) Mobile Device Management (MDM)
A3: Updated:December 2024
A4: State of Oklahoma Statewide Contract #1012
A6: Solution | B6: Description | C6: Commercially Available Price per License/Month
B7: VMware
A8: VMware CCPS Support Basic Plus Mthly GOV Add-On | B8: Mobile Device Management Subscription | C8: 0.6
A9: VMware CCPS Support Advanced Mthly GOV Add-On | B9: Mobile Device Management Subscription | C9: 1
A10: VMware WSP1 Mob Essentials Per Device Billed Mthly Under 500 GOV | B10: Minimum of 25 licenses required | C10: 3.3
A11: VMware WSP1 UEM Essentials Per Device Billed Mthly Under 500 GOV | B11: Minimum of 25 licenses required | C11: 5.78
A12: VMware WSP1 Assist Per Device Billed Mthly Under 500 GOV Add-on | B12: Minimum of 25 licenses required | C12: 0.55
A13: VMware WSP1 Education Essentials Per Device Billed Monthly GOV | B13: Minimum of 25, Educational Institutions only | C13: 1.32
A14: VMware WSP1 Mob Essentials Per Device Billed Mthly 500 Plus GOV | B14: Minimum of 25 licenses required | C14: 2.8
A15: VMware WSP1 UEM Essentials Per Device Billed Mthly 500 Plus GOV | B15: Minimum of 25 licenses required | C15: 4.9
A16: VMware WSP1 Assist Per Device Billed Mthly 500 Plus GOV Add-on | B16: Minimum of 25 licenses required | C16: 0.46
C17: Non-recurring
A18: VMware CCPS Deployment Light GOV | B18: One-time deployment fee | C18: 500
A19: VMware CCPS Deployment Professional Std GOV | B19: One-time deployment fee | C19: 1000
A20: VMware CCPS Deployment Professional Advanced GOV | B20: One-time deployment fee | C20: 5000
A29: Solution | B29: Description | C29: Commercially Available Price per License/Month
B30: Ivanti
A31: Ivanti Mobile Manage and Protect GOV | B31: Must be new MDM customer to Ivanti. Min of 20 and max of 2K licenses | C31: 5.5
A32: Ivanti Neurons MDM Dvc Cld Annl Term Bill Mthly Under 500 GOV | B32: Minimum of 20 licenses | C32: 4
A33: Ivanti Neurons MDM User Cl Annl Term Bill Mthly Under 500 GOV | B33: Minimum of 20 licenses. 5 device per user | C33: 6
A34: Ivanti Neurons MDM Prem Dvc Cld Annl Term Bill Mthly Under 500 Mthly GOV | B34: Minimum of 20 licenses. | C34: 7.5
A35: Ivanti Neurons MDM Prem User Cld Annl Term Bill Mthly Under 500 GOV | B35: Minimum of 20 licenses. 5 device per user | C35: 12
A36: Ivanti Mobile Threat Def Cld An Trm Bill Mthly Under 500 GOV Add On | B36: Minimum of 20 licenses. | C36: 6
A37: Ivanti Neurons UEM Prem Dvc Cld Annl Term Bill Mthly Under 500 GOV | B37: Minimum of 20 licenses. | C37: 8.5833333
A38: Ivanti Neurons UEM Dvc Cld Annl Term Bill Mthly Under 500 GOV | B38: Minimum of 20 licenses. | C38: 4.9166667
A39: Ivanti CCPS Support Basic Plus Mthly GOV Add-On | B39: Mobile Device Management Subscription | C39: 0.6
A40: Ivanti CCPS Support Advanced Mthly GOV Add-On | B40: Mobile Device Management Subscription | C40: 1
A41: Ivanti Neurons MDM Dvc Cld Annl Term Bill Mthly 500 plus GOV | B41: Minimum of 20 licenses | C41: 3.4
A42: Ivanti Neurons MDM User Cl Annl Term Bill Mthly 500 plus GOV | B42: Minimum of 20 licenses. 5 device per user | C42: 5.1
... A48: Ivanti Neurons MDM Dvc Cld Annl Term Bill Mthly 1000 plus GOV | B48: Minimum of 20 licenses. | C48: 3.25
C49: Non-recurring
A50: Ivanti CCPS Deployment Light GOV | B50: One-time deployment fee | C50: 500
A51: Ivanti CCPS Deployment Professional Std GOV | B51: One-time deployment fee | C51: 1000
A52: Ivanti CCPS Deployment Professional Advanced GOV | B52: One-time deployment fee | C52: 5000
A62: Solution | B62: Description | C62: Commercially Available Price per License/Month
B63: Samsung Knox
...

Sheet BSS Actsoft
A1: T-Mobile Current Government Rate Plans
A2: ActSoft
A3: Updated: December 2024
A4: State of Oklahoma Statewide Contract #1012
A6: Service or Feature | B6: Description | C6: Commercially Available Price per Line/Month for Government
B7: ActSoft
A8: Encore Classic | B8: •Choice of six pre-built forms or modules •One Administrative User •In Application Messaging •Mobile Timekeeping •GPS Location, Date, and Timestamp for all Mobile Timekeeping events •Create groups and assign mobile users to them •Request on-demand and schedule reports •Ad-Hoc report capabilities on Timekeeping data •In application file importing | C8: 9
A9: Encore Essentials | B9: Includes all Classic functionality plus: •Choice of five hundred pre-built forms or modules •Two Administrative Users •Unlimited Wireless Forms •Unlimited Form Submissions •Industry specific form library of prebuilt forms •Large selection of standard form field types (Text, Number, Date/Time, Selection, etc.) •Camera, Signature, and Audio Recording capabilities •Calculation Engine for numerical and date/time formulas •Custom List/Reference Data fields to look up and populate data based on selection •Filtering capabilities available on Custom List/Reference Data fields •Conditional Emailing for form Submissions •Ad-Hoc report capabilities for Wireless Forms | C9: 13.5
A10: Encore Ultimate | B10: Includes all Essentials functionality plus: •Three Administrative Users •Work Order Dispatching Module •Store Client details for ease of data entry. Pre-populate common information like address, contact, email, phone number based on the selected client •Create and store additional custom properties for clients •Customize Work Order Services and Status Workflows •Customize data capture requirements for each step in the order process •Order view to see current status of all open orders •Drag and drop dispatching to assign orders to users •Calendar view to see all user’s assigned work orders and availability •Driving directions on the driver’s mobile application | C10: 18
A11: Encore Vault Add-On Feature | B11: Vault gives organizations extra measures in place to further enhance data security for compliance with privacy requirements and industry regulations. Vault includes data encryption at rest and in transit, enhanced physical security, proactive 24/7 system monitoring plus available staff compliance training. | C11: 4.5
A12: Encore GPS Add-On Feature | B12: •Track workers on Mobile Devices in near real-time •Position updates every minute while moving, every hour while stopped •Create Polygon or Circle geofences for violation alerts and reporting •Multiple Alerting Options (Speed, Stop Time, Geofences) •Mileage and Travel Time Reports •Time spent at geofenced location reports | C12: 4.5
A13: Workforce Manager for Gov | B13: This Product is a separate offering that is dedicated to the Federal Government and those Governmental Agencies who require FedRAMP Authorization. This Product is hosted on a separate, dedicated Microsoft Azure Government Cloud. All Features and Functionality available on the Encore Platform are inherently included in the Workforce Manager for Gov Product. The Product meets all the stringent data security requirements for both StateRAMP and FedRAMP Authorizations. | C13: 36

Sheet SASE
A1: T-Mobile Current Government Rate Plans
A2: Secure Access Service Edge (SASE)
A3: Updated: December 2024
A4: State of Oklahoma Statewide Contract #1012
A6: Service or Feature | B6: Description | C6: Commercially Available Price per Line/Month
B7: Secure Access Service Edge (SASE)
A8: SASE PrvAc SWG TSIM clt CTM Voice | B8: T-Mobile SASE Private Access and Secure Internet Service TSIM license provides a single use T-Mobile SIM fixed wireless internet Device with secure, direct connectivity to the organization’s network or to the Internet with a suite of security features. Usage not to exceed the maximum 100 gigabytes per month/license.* | C8: 10.49
A9: SASE PrvAc SWG TSIM clt CTM MI | B9: T-Mobile SASE Private Access and Secure Internet Service TSIM license provides a single use T-Mobile SIM fixed wireless internet Device with secure, direct connectivity to the organization’s network or to the Internet with a suite of security features. Usage not to exceed the maximum 100 gigabytes per month/license.* | C9: 10.49
A10: Secure Internet Go S Voice | B10: Secure Internet Go - Security provides advanced content filtering of risky websites plus internet traffic scans to provide protection from online threats when on the T-Mobile network. It is only available for a T-Mobile smartphone, tablet or connected laptop and leverages T-SIMsecure authentication that uses the T-Mobile SIM to authenticate and automatically provide security capabilities, without a client. Hotspot/tethered traffic not protected by T-Mobile SASE. Usage not to exceed the maximum 50 gigabytes per month/license.** | C10: 3.99
A11: Secure Internet Go S MI | B11: Secure Internet Go - Security provides advanced content filtering of risky websites plus internet traffic scans to provide protection from online threats when on the T-Mobile network. It is only available for a T-Mobile smartphone, tablet or connected laptop and leverages T-SIMsecure authentication that uses the T-Mobile SIM to authenticate and automatically provide security capabilities, without a client. Hotspot/tethered traffic not protected by T-Mobile SASE. Usage not to exceed the maximum 50 gigabytes per month/license.** | C11: 3.99
A12: Secure Internet Go SP Voice | B12: Secure Internet Go - Security + Productivity provides advanced content filtering of risky and online gaming/streaming websites plus internet traffic scans to provide protection from online threats when on the T-Mobile network. It is only available for a T-Mobile smartphone, tablet or connected laptop and leverages T-SIMsecure authentication that uses the T-Mobile SIM to authenticate and automatically provide security capabilities, without a client. Hotspot/tethered traffic not protected by T-Mobile SASE. Usage not to exceed the maximum 50 gigabytes per month/license.** | C12: 3.99
A13: Secure Internet Go SP MI | B13: Secure Internet Go - Security + Productivity provides advanced content filtering of risky and online gaming/streaming web sites plus internet traffic scans to provide protection from online threats when on the T-Mobile network. It is only available for a T-Mobile smartphone, tablet or connected laptop and leverages T-SIMsecure authentication that uses the T-Mobile SIM to authenticate and automatically provide security capabilities, without a client. Hotspot/tethered traffic not protected by T-Mobile SASE. Usage not to exceed the maximum 50 gigabytes per month/license.** | C13: 3.99

Sheet 3rd Eye MMA
A1: T-Mobile Current Government Rate Plans
A2: 3rd Eye Mystic Messaging Archival
A3: Updated: December 2024
A4: State of Oklahoma Statewide Contract #1012
A6: Service or Feature | B6: Description | C6: Commercially Available Price per Line/Month
B7: 3rd Eye Mystic Messaging Archival
A8: 3rd Eye API Voice | B8: • 3rd Eye API Voice enables the customer to Capture, Archive, and Search Mobile Text Messages on Voice Plans. | C8: 4
A9: 3rd Eye API MI | B9: • 3rd Eye API Mobile Internet enables the customer to Capture, Archive, and Search Mobile Text Messages on Mobile Internet Plans (select devices only). | C9: 4

Sheet TDC
A1: T-Mobile Current Government Rate Plans
A2: T-Mobile Direct Connect (TDC)
A3: Updated: December 2024 | D3: Contract Discount
A4: State of Oklahoma Statewide Contract #1012 | D4: 0.15
A5: Service or Feature | B5: Description | C5: Commercially Available Price per Line/Month | D5: Monthly Recurring Cost/Line (After Eligible Contract Discount)
B6: T-Mobile Direct Connect
A7: Direct Connect for Wi-Fi | B7: • T-Mobile Direct Connect for Wi-Fi only devices. • T-Mobile Direct Connect is a push-to-talk solution that keeps your workforce in constant real-time contact with each other, support teams and headquarters. • For use with tablets or smartphones which are not connected to a carrier network (Wi-Fi only). • Device must be connected to Wi-Fi for Direct Connect service to function. Eligible on most Apple iOS and Android devices. • Requires T-Mobile Direct Connect mobile app or a push-to-talk enabled device. • Tax exclusive. | C7: 5 | D7: 5
A8: Direct Connect Cross Carrier | B8: • T-Mobile Direct Connect for cross-carrier. • T-Mobile Direct Connect is a push-to-talk solution that keeps your workforce in constant real-time contact with each other, support teams and headquarters. For use when host carrier is not T-Mobile. • Direct Connect for Cross Carrier is eligible on most Apple iOS and Android devices with an active SIM and Data connection on another carrier. • Requires T-Mobile Direct Connect mobile app or a push-to-talk enabled device. • Tax exclusive. | C8: 5 | D8: 5
A9: Direct Connect DesktopDispatch | B9: • T-Mobile Direct Connect for desktop dispatch. • T-Mobile Direct Connect is a push-to-talk solution that keeps your workforce in constant real-time contact with each other, support teams and headquarters. • For use on desktop or laptop computers. • Direct Connect for Desktop Dispatch is browser based and eligible on most windows-based operating systems. • Tax exclusive. | C9: 30 | D9: 30
A10: Direct Connect Only Plan Government | B10: • T-Mobile Direct Connect is a push-to-talk solution that keeps your workforce in constant real-time contact with each other, support teams, and headquarters. Requires T-Mobile Direct Connect mobile app or a push-to-talk enabled device. | C10: 21 | D10: 17.85
A11: DC LMR Interop Talk Group | B11: • Land Mobile Radio (LMR) Interoperability Talk Group reservation for an LMR Channel. • LMR Interoperability requires additional hardware and configuration. • Contact your Account Executive for additional information. | C11: 0 | D11: 0
A12: DC LMR Interop User/CSSI/ISSI | B12: •Land Mobile Radio (LMR) Interoperability resource reservation for an LMR User, CSSI, or ISSI connection. • LMR Interoperability requires additional hardware and configuration. • Contact your Account Executive for additional information. | C12: 0 | D12: 0
A13: TDC Add-On Features | B13: Description | C13: Commercially Available Price per Line/Month | D13: Monthly Recurring Cost/Line (After Eligible Contract Discount)
A14: Direct Connect $5 Handset | B14: • T-Mobile Direct Connect add-on for Voice plans. • T-Mobile Direct Connect is a push-to-talk solution that keeps your workforce in constant real-time contact with each other, support teams and headquarters. • T-Mobile Direct Connect requires an active Voice line with data. • Requires T-Mobile Direct Connect mobile app or a push-to-talk enabled device. | C14: 5 | D14: 5
A15: Direct Connect Tablet $5 | B15: • T-Mobile Direct Connect add-on for Mobile Internet plans. • T-Mobile Direct Connect is a push-to-talk solution that keeps your workforce in constant real-time contact with each other, support teams and headquarters. • T-Mobile Direct Connect requires an active Mobile Internet line with data. • Requires T-Mobile Direct Connect mobile app or a push-to-talk enabled device. | C15: 5 | D15: 5
A16: LMR Interop add on for MI | B16: • For use with Mobile Internet plans. • Land Mobile Radio (LMR) Interoperability allows you to extend your existing LMR system with the T-Mobile Direct Connect Push-To-Talk network via a secure connection. • LMR Interoperability requires additional hardware and configuration. • Contact your Account Executive for additional information. | C16: 5 | D16: 5
A17: LMR Interop add on for GSM | B17: • For use with Voice plans. Land Mobile Radio (LMR) Interoperability allows you to extend your existing LMR with the T-Mobile Direct Connect Push-To-Talk network via a secure connection. • LMR Interoperability requires additional hardware and configuration. • Contact your Account Executive for additional information. | C17: 5 | D17: 5
A18: Direct Connect Block All Data | B18: For use with Voice plans with a Direct Connect add-on feature. Blocks all data not related to T-Mobile Direct Connect services. | C18: 0 | D18: 0
A19: Direct Connect Blk Data MI | B19: For use with Mobile Internet plans with a Direct Connect add-on feature. Blocks all data not related to T-Mobile Direct Connect services. | C19: 0 | D19: 0
A20: TDC Business Critical | B20: For use with Voice plans. Business Critical adds large Talkgroup calling up to 3,000 members, Emergency calling, and Location based dynamic Talkgroups. Contact your Account Executive for additional information. | C20: 5 | D20: 5
A21: TDC Business Critical MI | B21: For use with Mobile Internet plans. Business Critical adds large Talkgroup calling up to 3,000 members, Emergency calling, and Location based dynamic Talkgroups. Contact your Account Executive for additional information. | C21: 5 | D21: 5
A22: Service or Feature | B22: Description | C22: Commercially Available Price per Line/Month | D22: Commercially Available Price per Line/Month
A23: DC Mission Critical | B23: For use with Voice plans. Mission Critical adds our most advanced PTT feature set. Contact your Account Executive for additional information. | C23: 20 | D23: 20
A24: DC Mission Critical MI | B24: For use with Mobile Internet plans. Mission Critical adds our most advanced PTT feature set. Contact your Account Executive for additional information. | C24: 20 | D24: 20
A25: DC MC Desktop Dispatch | B25: For use with Desktop Dispatch plans. Mission Critical adds our most advanced PTT feature set. Contact your Account Executive for additional information. | C25: 195 | D25: 195
A26: DC Mission Critical Demo | B26: Demo. For use with Voice plans. Mission Critical adds our most advanced PTT feature set. Contact your Account Executive for additional information. | C26: 0 | D26: 0
A27: DC Mission Critical Demo MI | B27: Demo. For use with Mobile Internet plans. Mission Critical adds our most advanced PTT feature set. Contact your Account Executive for additional information. | C27: 0 | D27: 0
A28: DC MC Desktop Dispatch Demo | B28: Demo. For use with Mobile Internet plans. Mission Critical adds our most advanced PTT feature set. Contact your Account Executive for additional information. | C28: 0 | D28: 0
A29: DC Video Streaming | B29: For use with Voice plans. Video streaming to individuals, Talkgroups and ad hoc groups. Contact your Account Executive for additional information. | C29: 12 | D29: 12
A30: DC Video Streaming MI | B30: For use with Mobile Internet plans. Video streaming to individuals, Talkgroups and ad hoc groups. Contact your Account Executive for additional information. | C30: 12 | D30: 12
A31: DC Video Streaming Demo | B31: Demo. For use with Voice plans. Video streaming to individuals, Talkgroups and ad hoc groups. Contact your Account Executive for additional information. | C31: 0 | D31: 0
A32: DC Video Streaming Demo MI | B32: Demo. For use with Mobile Internet plans. Video streaming to individuals, Talkgroups and ad hoc groups. Contact your Account Executive for additional information. | C32: 0 | D32: 0
A33: One-Time Charges | B33: Description | C33: One-Time Charge
A34: Assisted RoIP Integration | B34: Contact your Account Executive for additional information. | C34: 4500 | D34: N/A
A35: Managed RoIP Integration | B35: Contact your Account Executive for additional information | C35: 6500 | D35: N/A
A36: Upgrade Assisted to Managed | B36: Contact your Account Executive for additional information | C36: 2000 | D36: N/A

Sheet Geotab
A1: T-Mobile Current Government Rate Plans
A2: Updated: December 2024
A3: State of Oklahoma Statewide Contract #1012 | D3: Contract Discount
D4: 0.15
A5: Service or Feature | B5: Description | C5: Commercially Available Price per Line/Month | D5: Monthly Recurring Cost/Line (After Eligible Contract Discount)
B6: Geotab Fleet Management for Government Plans
A7: Geotab Fleet Management Base Plan for Government TE | B7: •GPS location •VIN •Driver ID •Basic IOX support worldwide •Unlimited Data (512 kbps speed) •Canada and Mexico roaming (all other Simple Global countries blocked) •Unlimited domestic roaming •Device is eligible for EIP | C7: 15 | D7: 12.75
A8: Geotab Fleet Management Regulatory Plan w/ HOS for Government TE | B8: •Hours of Service, •IFTA and Temperature Monitoring functionality over the Base plan. •Geared toward assisting fleets in meeting a range of compliance regulations in the USA and Canada •Unlimited Data (512 kbps speed) •Canada and Mexico roaming (all other Simple Global countries blocked) •Unlimited domestic roaming •Device is eligible for EIP | C8: 23.5 | D8: 19.975
A9: Geotab Fleet Management Pro Plus Plan TE | B9: •The ProPlus plan offers the greatest functionality, including Active Tracking, a lifetime warranty, and premium services for Electric Vehicles. •Harness and other accessories sold separately. •Unlimited Data (512 kbps speed) •Canada and Mexico roaming (all other Simple Global countries blocked) •Unlimited domestic roaming •Device is eligible for EIP | C9: 21.47 | D9: 18.2495
A10: Government Geotab ProPlus Bundle Self Install TE | B10: • The ProPlus plan offers the greatest functionality, including Active Tracking, a lifetime warranty, and premium services including Electric Vehicles. • Monthly service fee includes a Geotab GO device, harness, and Geotab Pro Plus solution. • Installation services are not included. • Taxes and fees are itemized separately • Unlimited Data (512 kbps speed) • Canada and Mexico roaming (all other Simple Global countries blocked) • Unlimited domestic roaming | C10: 19.25 | D10: 19.25
A11: Government Geotab ProPlus Bundle with Installation TE | B11: •The ProPlus plan offers the greatest functionality, including Active Tracking, a lifetime warranty, and premium services including Electric Vehicles. •Monthly service fee includes a Geotab GO device, harness, and Geotab Pro Plus solution. •Basic Installation services are included. •Taxes and fees are itemized separately •Unlimited Data (512 kbps speed) •Canada and Mexico roaming (all other Simple Global countries blocked) •Unlimited domestic roaming | C11: 19.75 | D11: 19.75
A12: Geotab Public Works plan Bundle for Government Self Install TE | B12: •Public Works is a scalable and robust solution for government fleet management. It helps government agencies manage vehicles such as salt spreaders, snow plows, street sweepers and waste management vehicles. •Monthly service fee includes a Geotab GO device, harness, and Geotab Pro Plus solution. •The Winter Operations solution also requires IOX-WRKS Cable for an additional cost. •Unlimited Data (512 kbps speed) •Installation services are not included. •Taxes and fees are itemized separately •Canada and Mexico roaming (all other Simple Global countries blocked) •Unlimited domestic roaming •Device is eligible for EIP | C12: 34.5 | D12: 34.5
A13: Geotab Public Works plan Bundle for Government with Installation TE | B13: •Public Works is a scalable and robust solution for government fleet management. It helps government agencies manage vehicles such as salt spreaders, snow plows, street sweepers and waste management vehicles. •Monthly service fee includes a Geotab GO device, harness, and Geotab Pro Plus solution. •The Winter Operations solution also requires IOX-WRKS Cable for an additional cost. •Unlimited Data (512 kbps speed) •Basic Installation services are included. •Taxes and fees are itemized separately •Canada and Mexico roaming (all other Simple Global countries blocked) •Unlimited domestic roaming •Device is eligible for EIP | C13: 35 | D13: 35
A14: Geotab Surfsight Dashcam | B14: •Unlimited data •Data plan that will throttle when it reaches 2GB of data usage. •Optimized video streaming at 480p •200MB Domestic data roaming •Canada and Mexico roaming (all other Simple Global countries blocked) | C14: 27 | D14: 22.95

Sheet Multiline
A1: T-Mobile Current Government Rate Plans
A2: Multiline
A3: Updated: December 2024
A4: State of Oklahoma Statewide Contract #1012
A5: Service or Feature | B5: Description | C5: Commercially Available Price per Line/Month | D5: SOC
B6: Multiline
A7: MultiLine Standard Gov | B7: • Highly-secure and compliant enterprise-grade app that puts a separate fully functional work phone with a business number on any smartphone, regardless of what wireless service provider they use. • Requires an active Voice line with data. • The MultiLine app is only available on iOS or Android smartphone platforms. • Tax Exclusive. | C7: 13.94 | D7: MULTILGS
A8: MultiLine Plus Gov | B8: • Highly-secure and compliant enterprise-grade app that puts a separate fully functional work phone with a business number on any smartphone, regardless of what wireless service provider they use. • Plus includes message capture, message opt-in/out, message blocking, and message redaction. • Requires an active Voice line with data. • The MultiLine app is only available on iOS or Android smartphone platforms. • Tax Exclusive. | C8: 18.04 | D8: MULTILGP
A9: MultiLine Enterprise Gov | B9: • Highly-secure and compliant enterprise-grade app that puts a separate fully functional work phone with a business number on any smartphone, regardless of what wireless service provider they use. • Includes message capture, message opt-in/out, message blocking, message redaction, and voice recording. • Requires an active Voice line with data. •The MultiLine app is only available on iOS or Android smartphone platforms. •Tax Exclusive. | C9: 24.6 | D9: MULTILGE
A10: Add-On Features | B10: Description | C10: Commercially Available Price per Line/Month | D10: SOC
A11: Blackberry Dynamics Integration | B11: Blackberry Dynamics Integration add-on feature integrates your MultiLine app with your BlackBerry Unified Endpoint Management (UEM). BlackBerry Unified Endpoint Management is purchased separately and is not provided directly by T-Mobile. | C11: 3.25 | D11: BLKBRYDY
A12: Microsoft Intune Integration | B12: Microsoft Intune Integration add-on feature integrates your MultiLine app with your Microsoft Intune Mobile Device Manager (MDM). Microsoft Intune is purchased separately and not provided directly from T-Mobile. | C12: 3.25 | D12: MINTUNE
A13: Microsoft Teams Desktop Add-On for Messaging | B13: Microsoft Teams Desktop Add-On for Messaging enables customers to send and receive SMS messages from within the Microsoft Teams desktop interface. Microsoft Teams is purchased separately and is not provided directly by T-Mobile. | C13: 5 | D13: MVTEAMSMS
A14: Salesforce Integration | B14: Salesforce Integration add-on feature integrates your MultiLine app with your Enterprise Salesforce Organization. Enterprise Salesforce Organization is purchased separately and is not provided directly by T-Mobile. | C14: 20 | D14: SFINTERG
A15: WhatsApp Messaging Channel | B15: WhatsApp Messaging Channel add-on feature allows compliant WhatsApp messaging directly inside of your MultiLine app. WhatsApp services are purchased separately and are not provided directly by T-Mobile. | C15: 29 | D15: WHATSAMC
A16: One-Time Charges | B16: Description | C16: One-Time Charge | D16: SOC
A17: Digital Safe: SFTP | B17: An automated process to push the recordings to the client using encrypted SFTP. This push would be in a CSV file which contains voice metadata and/or SMS metadata and SMS content. Associated media for voice content will be pushed separately. The records and media on Movius Cloud are then securely purged. The client is responsible for ensuring their archiving vendor can ingest the records. | C17: 2250 | D17: DSSFTP
A18: Digital Safe: API | B18: Movius has exposed APIs that allow a client to extract recordings on the Movius Platform. Recordings must be extracted within 72 hours. | C18: 2250 | D18: DSAPI
A19: SIPREC Call Recording | B19: Secure connection from Movius Cloud to Client Data Centre. Calls are streamed live to the Client DC – no recording or storage on Movius at all. In the event the live stream to Client DC fails for some reason, the actual call will be dropped to ensure a call will not occur if recording fails. | C19: 45500 | D19: SREC3
A20: ML IP Whitelisting | B20: Allow-listing of End User’s IP addresses for Movius Management Portal (MMP) admin access and API URLs. | C20: 12500 | D20: MLDLNK
A21: Direct Links Cost | B21: This is an annual charge that goes with the “SIPREC Call Recording” Add-on. Includes recurring costs for the connection from Movius to an agreed upon IBM Point of Presence and associated traffic charges. Billed annually. | C21: 12500 | D21: MLIPWL

Sheet Ooma & Marketspark
A1: State of Oklahoma Statewide Contract #1012
A2: POTS Solution: OOMA & MarketSpark
A3: Updated: December 2024
A7: Solution | B7: Description | C7: Additional Product Info | D7: Commercially Available Price per License/Month
B8: POTS Solution
A9: OOMA AirDial | B9: • POTS (Plain Old Telephone Service) replacement product for copper wire devices. • AirDial is setup, either on the wall or on a flat surface, where the landline connects to a PBX. • The analog connection will be replaced by a wireless connection provided by T-Mobile. • Supports up to four analog connections and contains Dual SIM slots. • Also has remote monitoring through an online portal, making it easy to view the status of AirDial devices at a glance. •AirDial services are provided on a month-to-month basis. | C9: N/A | D9: 39.95
A10: OOMA AirDial 3 Year 3GB | B10: • POTS (Plain Old Telephone Service) replacement product for copper wire devices. • AirDial is setup, either on the wall or on a flat surface, where the landline connects to a PBX. • The analog connection will be replaced by a wireless connection provided by T-Mobile. • Supports up to four analog connections and contains Dual SIM slots. • Also has remote monitoring through an online portal, making it easy to view the status of AirDial devices at a glance. | C10: 3 Year Term required | D10: 29.95
A11: OOMA AirDial 1 Year 3GB | B11: • POTS (Plain Old Telephone Service) replacement product for copper wire devices. • AirDial is setup, either on the wall or on a flat surface, where the landline connects to a PBX. • The analog connection will be replaced by a wireless connection provided by T-Mobile. • Supports up to four analog connections and contains Dual SIM slots. • Also has remote monitoring through an online portal, making it easy to view the status of AirDial devices at a glance. | C11: 1 Year Term required | D11: 34.95
