Workbook
Name _Hlk98518766: 'Fully Automated AED'!$A$30

Sheet Instructions
A1: Request for Proposals for
A2: AED Units and Accessories
A3: Issued by the State of Oklahoma
A4: Solicitation Number EV00000354
A6: Attachment H COST & DELIVERY TIME PROPOSAL INSTRUCTIONS
A8: H.1 | B8: Read and review the complete RFP for Automated External Defibrillator (AED) Units and Accessories to identify the categories of requested cost and estimation for AED Units and supplies.
A9: H.2 | B9: Each category has it's own cost schedule and tab. At the bottom of this Cost Proposal spreadsheet, select the tab for the category(s) for which you are submitting a proposal, ensuring a tab is filled out for every category of response as well as the estimated delivery times of any proposed items.
A10: H.3 | B10: Write your company name and price validity period in the appropriate lines of each Category Spreadsheet you are proposing.
A11: H.4 | B11: Fill in the white boxes with the required information for each category you are proposing, this document will serve as your full-line catalog offering. Offeror must provide a whole number discount (e.g. 10%, not 10.3%) for each item listed. If not bidding, mark "No Bid" for that Category. Offeror must provide separate pricing for AED accessories (on the appropriate tab) that are compatible with the AED units being proposed.
A12: H.5 | B12: All AED catalog offerings are considered for the purpose of this solicitation. Value-add items/services can be added on the Value-Add tab but will not be scored. Listed value-add items may be considered for addition to the contract to those offeror’s awarded a master agreement.
A13: H.6 | B13: All discounts offered must include all anticipated charges, including but not limited to, freight and delivery, warehousing, transaction fees, overhead, profits, and NASPO Administrative Fee (0.25%). The proposed discount as awarded will be the minimum discount; higher discounts may be negotiated between the ordering Participating Entity and the Contractor, but the discount may not ever drop below the discount offered in this proposal.
A14: H.7 | B14: Completed Cost Proposals must be included in your proposal, sealed separately and labeled per instruction in the RFP Summary section III.3. Failure to include a completed Cost Schedule with your submittal will cause your submittal to be deemed non-responsive.
A15: H.8 | B15: The Value-Add tab of this Cost Schedule Spreadsheet is for entering any value-add discount off of normal rates for services your company may wish to include in its Master Agreement if awarded. These optional services you list under the Value-Add category will not be evaluated in the cost equation for scoring in this solicitation, but they will be made part of the Master Agreement(s) resulting from this solicitation as value-add service options. If your company does not wish to provide one or more of the services listed in this Category, leave those lines blank. If there are any additional service options you would include that aren't listed, write them in the blank lines provided along with the discount to be applied to that service. Value-added services not listed on this submittal form will not be allowed under this Master Agreement without prior written approval from the Lead State Procurement Officer.

Sheet Fully Automated AED
A1: Request for Proposals for
A2: AED Units and Accessories
A3: Issued by the State of Oklahoma
A4: Solicitation Number EV00000354
A6: Proposal is for the Discount from published List Price - Net Price reflected here is based on List Price at time of RFP Submission
A7: Offeror Name: Stryker Sales, LLC through its Medical Division
A8: Validity Period: | B8: 08/05/2024 - 2/28/2026
A9: Category I: AED Units - Fully Automated
A10: Item Number | B10: Product Description | C10: UOM | D10: QTY per UOM | E10: List Price | F10: % Discount | G10: Net Price
A11: 360-STR-US-10 | B11: HeartSine SAM 360P AED, Fully-automatic | C11: EA | D11: 1 | E11: =_xlfn.XLOOKUP(A11,'Complete List'!A:A,'Complete List'!E:E) -> 2498 | F11: =1-(G11/E11) -> 0.37185749 | G11: 1569.1
A12: 360-STR-US-AV | B12: HeartSine SAM 360P AED Aviation, Fully-Automatic | C12: EA | D12: 1 | E12: =_xlfn.XLOOKUP(A12,'Complete List'!A:A,'Complete List'!E:E) -> 2658 | F12: =1-(G12/E12) -> 0.37200903 | G12: 1669.2
A13: 360-STR-US-GW | B13: PACKAGE, 360P, Gateway, PP01, | C13: EA | D13: 1 | E13: =_xlfn.XLOOKUP(A13,'Complete List'!A:A,'Complete List'!E:E) -> 2846 | F13: =1-(G13/E13) -> 0.37192551 | G13: 1787.5
A14: 99512-001263 | B14: LPCR2 Fully-automatic, WIFI,English, Bag | C14: EA | D14: 1 | E14: =_xlfn.XLOOKUP(A14,'Complete List'!A:A,'Complete List'!E:E) -> 3535 | F14: =1-(G14/E14) -> 0.24647808 | G14: 2663.7
A15: 99512-001264 | B15: LPCR2 Fully-automatic, WIFI,English, Handle | C15: EA | D15: 1 | E15: =_xlfn.XLOOKUP(A15,'Complete List'!A:A,'Complete List'!E:E) -> 3434 | F15: =1-(G15/E15) -> 0.24634828 | G15: 2588.04
A16: 99512-001267 | B16: LPCR2 Fully-automatic, WIFI,English-Spanish, Bag | C16: EA | D16: 1 | E16: =_xlfn.XLOOKUP(A16,'Complete List'!A:A,'Complete List'!E:E) -> 3635 | F16: =1-(G16/E16) -> 0.2463934 | G16: 2739.36
A17: 99512-001268 | B17: LPCR2 Fully-automatic, WIFI,English-Spanish, Handle | C17: EA | D17: 1 | E17: =_xlfn.XLOOKUP(A17,'Complete List'!A:A,'Complete List'!E:E) -> 3535 | F17: =1-(G17/E17) -> 0.24647808 | G17: 2663.7
A18: 99512-001434 | B18: LPCR2 USB Fully-automatic, English, Handle | C18: EA | D18: 1 | E18: =_xlfn.XLOOKUP(A18,'Complete List'!A:A,'Complete List'!E:E) -> 3226 | F18: =1-(G18/E18) -> 0.24635462 | G18: 2431.26
A19: 99512-000970 | B19: LIFEPAK CR2 Cellular Defibrillator, Semi-Automatic, English, carrying case | C19: EA | D19: 1 | E19: =_xlfn.XLOOKUP(A19,'Complete List'!A:A,'Complete List'!E:E) -> 3367 | F19: =1-(G19/E19) -> 0.24640927 | G19: 2537.34
A20: 99512-001708 | B20: LIFEPAK CR2 Cellular Defibrillator, Semi-Automatic, English, handle | C20: EA | D20: 1 | E20: =_xlfn.XLOOKUP(A20,'Complete List'!A:A,'Complete List'!E:E) -> 3262 | F20: =1-(G20/E20) -> 0.24630288 | G20: 2458.56
A21: 99512-001709 | B21: LIFEPAK CR2 Cellular Defibrillator, Fully Automatic, English, carrying case | C21: EA | D21: 1 | E21: =_xlfn.XLOOKUP(A21,'Complete List'!A:A,'Complete List'!E:E) -> 3644 | F21: =1-(G21/E21) -> 0.24632821 | G21: 2746.38
A22: 99512-001710 | B22: LIFEPAK CR2 Cellular Defibrillator, Fully Automatic, English, handle | C22: EA | D22: 1 | E22: =_xlfn.XLOOKUP(A22,'Complete List'!A:A,'Complete List'!E:E) -> 3541 | F22: =1-(G22/E22) -> 0.24643321 | G22: 2668.38
... A26: 99512-001714 | B26: LIFEPAK CR2 Cellular Defibrillator, Fully Automatic, English-Spanish, handle | C26: EA | D26: 1 | E26: =_xlfn.XLOOKUP(A26,'Complete List'!A:A,'Complete List'!E:E) -> 3644 | F26: =1-(G26/E26) -> 0.24632821 | G26: 2746.38
A30: [Add additional rows as needed.]
A31: Notes:
A32: 1. Products or services are also quoted in the pdf price list. If the required item is not available in the pricelist, the participating entity can contact local Sales Account Manager through https://www.stryker.com/us/en/emergency-care/contact.html for advice. 2. If Agreement is a multi-year contract, Supplier may increase pricing no more than once annually in accordance with CPI and other industry standards. Such price increase shall be incorporated by amendment to this Agreement and signed by NASPO and Supplier.

Sheet Semi Automated AED
A1: Request for Proposals for
A2: AED Units and Accessories
A3: Issued by the State of Oklahoma
A4: Solicitation Number EV00000354
A6: Proposal is for the Discount from published List Price - Net Price reflected here is based on List Price at time of RFP Submission
A7: Offeror Name: Stryker Sales, LLC through its Medical Division
A8: Validity Period: | B8: 08/05/2024 - 2/28/2026
A9: Category II: AED Units - Semi Automated
A10: Item Number | B10: Product Description | C10: UOM | D10: QTY per UOM | E10: List Price | F10: % Discount | G10: Net Price
A11: 350-STR-US-10 | B11: HeartSine SAM 350P AED | C11: EA | D11: 1 | E11: =_xlfn.XLOOKUP(A11,'Complete List'!A:A,'Complete List'!E:E) -> 2311 | F11: =1-(G11/E11) -> 0.37193855 | G11: 1451.45
A12: 350-STR-US-AV | B12: HeartSine SAM 350P AED Aviation | C12: EA | D12: 1 | E12: =_xlfn.XLOOKUP(A12,'Complete List'!A:A,'Complete List'!E:E) -> 2513 | F12: =1-(G12/E12) -> 0.37198567 | G12: 1578.2
A13: 350-STR-AA-AV | B13: PKG,350P, PP07,EN,AA ,RED CASE | C13: EA | D13: 1 | E13: =_xlfn.XLOOKUP(A13,'Complete List'!A:A,'Complete List'!E:E) -> 2513 | F13: =1-(G13/E13) -> 0.37198567 | G13: 1578.2
A14: 450-STR-US-10 | B14: HeartSine SAM 450P AED | C14: EA | D14: 1 | E14: =_xlfn.XLOOKUP(A14,'Complete List'!A:A,'Complete List'!E:E) -> 2590 | F14: =1-(G14/E14) -> 0.37208494 | G14: 1626.3
A15: 350-STR-US-GW | B15: PACKAGE,350P, Gateway, PP01,US | C15: EA | D15: 1 | E15: =_xlfn.XLOOKUP(A15,'Complete List'!A:A,'Complete List'!E:E) -> 2658 | F15: =1-(G15/E15) -> 0.37200903 | G15: 1669.2
A16: 450-STR-US-AV | B16: HeartSine SAM 450P AED Avaition | C16: EA | D16: 1 | E16: =_xlfn.XLOOKUP(A16,'Complete List'!A:A,'Complete List'!E:E) -> 2777 | F16: =1-(G16/E16) -> 0.37200216 | G16: 1743.95
A17: 450-STR-US-GW | B17: PACKAGE, 450P, Gateway,PP03J, | C17: EA | D17: 1 | E17: =_xlfn.XLOOKUP(A17,'Complete List'!A:A,'Complete List'!E:E) -> 2936 | F17: =1-(G17/E17) -> 0.37191757 | G17: 1844.05
A18: 99512-001435 | B18: LPCR2 USB Semi-automatic, English, Handle | C18: EA | D18: 1 | E18: =_xlfn.XLOOKUP(A18,'Complete List'!A:A,'Complete List'!E:E) -> 3092 | F18: =1-(G18/E18) -> 0.24648771 | G18: 2329.86
A19: 99512-001262 | B19: LPCR2 Semi-automatic, WIFI,English, Handle | C19: EA | D19: 1 | E19: =_xlfn.XLOOKUP(A19,'Complete List'!A:A,'Complete List'!E:E) -> 3164 | F19: =1-(G19/E19) -> 0.246378 | G19: 2384.46
A20: 99512-001261 | B20: LPCR2 Semi-automatic, WIFI,English, Bag | C20: EA | D20: 1 | E20: =_xlfn.XLOOKUP(A20,'Complete List'!A:A,'Complete List'!E:E) -> 3265 | F20: =1-(G20/E20) -> 0.24627871 | G20: 2460.9
A21: 99512-001266 | B21: LPCR2 Semi-automatic, WIFI,English-Spanish, Handle | C21: EA | D21: 1 | E21: =_xlfn.XLOOKUP(A21,'Complete List'!A:A,'Complete List'!E:E) -> 3265 | F21: =1-(G21/E21) -> 0.24627871 | G21: 2460.9
A22: 99512-001265 | B22: LPCR2 Semi-automatic, WIFI,English-Spanish, Bag | C22: EA | D22: 1 | E22: =_xlfn.XLOOKUP(A22,'Complete List'!A:A,'Complete List'!E:E) -> 3366 | F22: =1-(G22/E22) -> 0.24641711 | G22: 2536.56
... A24: 99425-000025 | B24: LIFEPAK 1000 ECG Display, Standard Setup w/carry case, battery & electrodes | C24: EA | D24: 1 | E24: =_xlfn.XLOOKUP(A24,'Complete List'!A:A,'Complete List'!E:E) -> 4718 | F24: =1-(G24/E24) -> 0.25611276 | G24: 3509.66
A25: [Add additional rows as needed.]
A27: Notes:
A28: 1. Products or services are also quoted in the pdf price list. If the required item is not available in the pricelist, the participating entity can contact local Sales Account Manager through https://www.stryker.com/us/en/emergency-care/contact.html for advice. 2. If Agreement is a multi-year contract, Supplier may increase pricing no more than once annually in accordance with CPI and other industry standards. Such price increase shall be incorporated by amendment to this Agreement and signed by NASPO and Supplier.

Sheet ALS Monitor Defibrillator
A1: Request for Proposals for
A2: AED Units and Accessories
A3: Issued by the State of Oklahoma
A4: Solicitation Number EV00000354
A6: Proposal is for the Discount from published List Price - Net Price reflected here is based on List Price at time of RFP Submission
A7: Offeror Name: Stryker Sales, LLC through its Medical Division
A8: Validity Period: | B8: 08/05/2024 - 2/28/2026
A9: Category III: ALS Monitor Defibrillator
A10: Item Number | B10: Product Description | C10: UOM | D10: QTY per UOM | E10: List Price | F10: % Discount | G10: Net Price
A11: 70335-000035 | B11: LP35,EN-US,MAS-SP/CO/MET,MED-CO2,SUN-NIB | C11: EA | D11: 1 | E11: =_xlfn.XLOOKUP(A11,'Complete List'!A:A,'Complete List'!E:E) -> 59000 | F11: =1-(G11/E11) -> 0.1 | G11: 53100
A12: 70335-000037 | B12: LP35,EN-US,MAS-SP/CO/MET,MED-CO2,SUN-NIB | C12: EA | D12: 1 | E12: =_xlfn.XLOOKUP(A12,'Complete List'!A:A,'Complete List'!E:E) -> 59000 | F12: =1-(G12/E12) -> 0.1 | G12: 53100
A13: 70335-000038 | B13: LP35,EN-US,MAS-SP/CO,MED-CO2,SUN-NIBP,IP | C13: EA | D13: 1 | E13: =_xlfn.XLOOKUP(A13,'Complete List'!A:A,'Complete List'!E:E) -> 53600 | F13: =1-(G13/E13) -> 0.1 | G13: 48240
A14: 70335-000039 | B14: LP35,EN-US,MAS-SP/CO,MED-CO2,SUN-NIBP,IP | C14: EA | D14: 1 | E14: =_xlfn.XLOOKUP(A14,'Complete List'!A:A,'Complete List'!E:E) -> 53600 | F14: =1-(G14/E14) -> 0.1 | G14: 48240
A15: 70335-000040 | B15: LP35,EN-US,MAS-SPO2,MED-CO2,SUN-NIBP,IP- | C15: EA | D15: 1 | E15: =_xlfn.XLOOKUP(A15,'Complete List'!A:A,'Complete List'!E:E) -> 48200 | F15: =1-(G15/E15) -> 0.1 | G15: 43380
A16: 70335-000041 | B16: LP35,EN-US,MAS-SPO2,MED-CO2,SUN-NIBP,IP- | C16: EA | D16: 1 | E16: =_xlfn.XLOOKUP(A16,'Complete List'!A:A,'Complete List'!E:E) -> 48200 | F16: =1-(G16/E16) -> 0.1 | G16: 43380
A17: 70335-000042 | B17: LP35,EN-US,MAS-SP/CO,MED-CO2,SUN-NIBP,12 | C17: EA | D17: 1 | E17: =_xlfn.XLOOKUP(A17,'Complete List'!A:A,'Complete List'!E:E) -> 51400 | F17: =1-(G17/E17) -> 0.1 | G17: 46260
A18: 70335-000043 | B18: LP35,EN-US,MAS-SPO2,MED-CO2,SUN-NIBP,12L | C18: EA | D18: 1 | E18: =_xlfn.XLOOKUP(A18,'Complete List'!A:A,'Complete List'!E:E) -> 46000 | F18: =1-(G18/E18) -> 0.1 | G18: 41400
A19: 70335-000044 | B19: LP35,EN-US,MAS-SPO2,MED-CO2,SUN-NIBP,IP- | C19: EA | D19: 1 | E19: =_xlfn.XLOOKUP(A19,'Complete List'!A:A,'Complete List'!E:E) -> 32200 | F19: =1-(G19/E19) -> 0.1 | G19: 28980
A20: 70335-000045 | B20: LP35,EN-US,MAS-SPO2,MED-CO2,SUN-NIBP,IP- | C20: EA | D20: 1 | E20: =_xlfn.XLOOKUP(A20,'Complete List'!A:A,'Complete List'!E:E) -> 32200 | F20: =1-(G20/E20) -> 0.1 | G20: 28980
A21: 70335-000046 | B21: LP35,EN-US,MAS-SPO2,MED-CO2,SUN-NIBP,WIF | C21: EA | D21: 1 | E21: =_xlfn.XLOOKUP(A21,'Complete List'!A:A,'Complete List'!E:E) -> 30000 | F21: =1-(G21/E21) -> 0.1 | G21: 27000
A22: [Add additional rows as needed.]
A24: Notes:
A25: 1. Products or services are also quoted in the pdf price list. If the required item is not available in the pricelist, the participating entity can contact local Sales Account Manager through https://www.stryker.com/us/en/emergency-care/contact.html for advice. 2. If Agreement is a multi-year contract, Supplier may increase pricing no more than once annually in accordance with CPI and other industry standards. Such price increase shall be incorporated by amendment to this Agreement and signed by NASPO and Supplier.

Sheet AED Accessories
A1: Request for Proposals for
A2: AED Units and Accessories
A3: Issued by the State of Oklahoma
A4: Solicitation Number EV00000354
A6: Proposal is for the Discount from published List Price - Net Price reflected here is based on List Price at time of RFP Submission
A7: Offeror Name: Stryker Sales, LLC through its Medical Division
A8: Validity Period: | B8: 08/05/2024 - 2/28/2026
A9: AED Accessories
A10: Item Number | B10: Product Description | C10: UOM | D10: QTY per UOM | E10: List Price | F10: % Discount | G10: Net Price
A11: 26500-003645 | B11: TAG,LOCAL EMERGENCY CONTACT NUMBER,911,MULTI | C11: EA | D11: 1 | E11: =_xlfn.XLOOKUP(A11,'Complete List'!A:A,'Complete List'!E:E) -> 6.2721 | F11: =1-(G11/E11) -> 0.17839432 | G11: 5.153193
A12: 26500-002040 | B12: Quik reference Instruction Card for AED and CPR instruction | C12: EA | D12: 1 | E12: =_xlfn.XLOOKUP(A12,'Complete List'!A:A,'Complete List'!E:E) -> 12.55455 | F12: =1-(G12/E12) -> 0.17907165 | G12: 10.306386
A13: 21300-008152 | B13: COVER, USB PORT, LPCR2 | C13: EA | D13: 1 | E13: =_xlfn.XLOOKUP(A13,'Complete List'!A:A,'Complete List'!E:E) -> 13.8069 | F13: =1-(G13/E13) -> 0.17888703 | G13: 11.337025
A14: 21300-008143 | B14: CABLE, USB2.0 A MALE TO MICRO-B, L 5.5FT | C14: EA | D14: 1 | E14: =_xlfn.XLOOKUP(A14,'Complete List'!A:A,'Complete List'!E:E) -> 20 | F14: =1-(G14/E14) -> 0.17548912 | G14: 16.490218
A15: 11250-000106 | B15: Charge-Pak, LPCR-T AED Trainer | C15: EA | D15: 1 | E15: =_xlfn.XLOOKUP(A15,'Complete List'!A:A,'Complete List'!E:E) -> 23 | F15: =1-(G15/E15) -> 0.18695652 | G15: 18.7
A16: 21250-000003 | B16: DOOR, BATTERY, 3 PACK, TRAINER, LPCR2 | C16: EA | D16: 1 | E16: =_xlfn.XLOOKUP(A16,'Complete List'!A:A,'Complete List'!E:E) -> 23 | F16: =1-(G16/E16) -> 0.18695652 | G16: 18.7
A17: 21300-004579 | B17: LIFEPAK CR Plus Replacement shoulder strap for carry case | C17: EA | D17: 1 | E17: =_xlfn.XLOOKUP(A17,'Complete List'!A:A,'Complete List'!E:E) -> 25 | F17: =1-(G17/E17) -> 0.184 | G17: 20.4
A18: ACC-REM-GW | B18: HeartSine Gateway,Removal Tool | C18: EA | D18: 1 | E18: =_xlfn.XLOOKUP(A18,'Complete List'!A:A,'Complete List'!E:E) -> 25 | F18: =1-(G18/E18) -> 0.184 | G18: 20.4
A19: 26500-001156 | B19: LIFEPAK CR Plus Operating Instructions: LIFEPAK CR Plus Training System | C19: EA | D19: 1 | E19: =_xlfn.XLOOKUP(A19,'Complete List'!A:A,'Complete List'!E:E) -> 27 | F19: =1-(G19/E19) -> 0.18148148 | G19: 22.1
A20: 11141-000166 | B20: BATTERY, D-CELL, TRAINER, LPCR2, Pack of 4 | C20: EA | D20: 1 | E20: =_xlfn.XLOOKUP(A20,'Complete List'!A:A,'Complete List'!E:E) -> 28 | F20: =1-(G20/E20) -> 0.18035714 | G20: 22.95
A21: 11250-000139 | B21: ASSY, TRAY COVER WITH HANDLE, TRAINER, LPCR2 | C21: EA | D21: 1 | E21: =_xlfn.XLOOKUP(A21,'Complete List'!A:A,'Complete List'!E:E) -> 30 | F21: =1-(G21/E21) -> 0.17833333 | G21: 24.65
A22: 21250-000004 | B22: ASSY, LID, LOCALIZED, TRAINER, LPCR2, ENGLISH | C22: EA | D22: 1 | E22: =_xlfn.XLOOKUP(A22,'Complete List'!A:A,'Complete List'!E:E) -> 30 | F22: =1-(G22/E22) -> 0.17833333 | G22: 24.65
... A174: 50998-000027 | B174: LIFEPAK CR2 4G Data Plan | C174: EA | D174: 1 | E174: =_xlfn.XLOOKUP(A174,'Complete List'!A:A,'Complete List'!E:E) -> 516 | F174: =1-(G174/E174) -> 0.17800388 | G174: 424.15
A177: Notes:
A178: 1. Products or services are also quoted in the pdf price list. If the required item is not available in the pricelist, the participating entity can contact local Sales Account Manager through https://www.stryker.com/us/en/emergency-care/contact.html for advice. 2. If Agreement is a multi-year contract, Supplier may increase pricing no more than once annually in accordance with CPI and other industry standards. Such price increase shall be incorporated by amendment to this Agreement and signed by NASPO and Supplier.

Sheet Value-Add
A1: Request for Proposals for
A2: AED Units and Accessories
A3: Issued by the State of Oklahoma
A4: Solicitation Number EV00000354
A6: Proposal is for the Discount from published List Price - Net Price reflected here is based on List Price at time of RFP Submission
A7: Offeror Name: Stryker Sales, LLC through its Medical Division
A8: Validity Period: | B8: 08/05/2024 - 2/28/2026
A9: Value-Add
A10: Value-Add: Examples include battery replacement plans, unconventional training options, alternative maintenance plans, and other services not specified.
A11: Item Number or Service | B11: Product/Service Description | C11: UOM | D11: QTY per UOM | E11: List Price | F11: % Discount | G11: Net Price
A12: 11110-000038 | B12: CABLE ASSY-THERAPY,QUIK-COMBO, | C12: EA | D12: 1 | E12: =_xlfn.XLOOKUP(A12,'Complete List'!A:A,'Complete List'!E:E) -> 216 | F12: =1-(G12/E12) -> 0.1775463 | G12: 177.65
A13: 11130-000061 | B13: Standard hard paddles for use w/LIFEPAK 15 | C13: EA | D13: 1 | E13: =_xlfn.XLOOKUP(A13,'Complete List'!A:A,'Complete List'!E:E) -> 1336 | F13: =1-(G13/E13) -> 0.17863024 | G13: 1097.35
A14: 11131-000001 | B14: Internal paddle handles w/discharge control for use with LIFEPAK 12 or LIFEPAK 20 | C14: EA | D14: 1 | E14: =_xlfn.XLOOKUP(A14,'Complete List'!A:A,'Complete List'!E:E) -> 3043 | F14: =1-(G14/E14) -> 0.17877095 | G14: 2499
A15: 11131-000010 | B15: Internal paddles - 1" size (6.25" shaft length) | C15: EA | D15: 1 | E15: =_xlfn.XLOOKUP(A15,'Complete List'!A:A,'Complete List'!E:E) -> 550 | F15: =1-(G15/E15) -> 0.17936364 | G15: 451.35
A16: 11131-000011 | B16: Internal paddles - 1.5" size (6" shaft length) | C16: EA | D16: 1 | E16: =_xlfn.XLOOKUP(A16,'Complete List'!A:A,'Complete List'!E:E) -> 550 | F16: =1-(G16/E16) -> 0.17936364 | G16: 451.35
A17: 11131-000012 | B17: Internal paddles - 2" size (5.75" shaft length) | C17: EA | D17: 1 | E17: =_xlfn.XLOOKUP(A17,'Complete List'!A:A,'Complete List'!E:E) -> 550 | F17: =1-(G17/E17) -> 0.17936364 | G17: 451.35
A18: 11131-000013 | B18: Internal paddles - 2.5" size (5.75" shaft length) | C18: EA | D18: 1 | E18: =_xlfn.XLOOKUP(A18,'Complete List'!A:A,'Complete List'!E:E) -> 550 | F18: =1-(G18/E18) -> 0.17936364 | G18: 451.35
A19: 11131-000014 | B19: Internal paddles - 3.5" size (5" shaft length) | C19: EA | D19: 1 | E19: =_xlfn.XLOOKUP(A19,'Complete List'!A:A,'Complete List'!E:E) -> 550 | F19: =1-(G19/E19) -> 0.17936364 | G19: 451.35
A20: 11131-000019 | B20: Internal paddles - 2.5" size (8.5" shaft length) | C20: EA | D20: 1 | E20: =_xlfn.XLOOKUP(A20,'Complete List'!A:A,'Complete List'!E:E) -> 550 | F20: =1-(G20/E20) -> 0.17936364 | G20: 451.35
A21: 11131-000021 | B21: Internal paddles - 1.5" size (9" shaft length) | C21: EA | D21: 1 | E21: =_xlfn.XLOOKUP(A21,'Complete List'!A:A,'Complete List'!E:E) -> 550 | F21: =1-(G21/E21) -> 0.17936364 | G21: 451.35
A22: 11131-000022 | B22: Internal paddles - 2" size (8.75" shaft length) | C22: EA | D22: 1 | E22: =_xlfn.XLOOKUP(A22,'Complete List'!A:A,'Complete List'!E:E) -> 549 | F22: =1-(G22/E22) -> 0.17941712 | G22: 450.5
A23: 11131-000023 | B23: Internal paddles - 3.5" size (8" shaft length) | C23: EA | D23: 1 | E23: =_xlfn.XLOOKUP(A23,'Complete List'!A:A,'Complete List'!E:E) -> 550 | F23: =1-(G23/E23) -> 0.17936364 | G23: 451.35
... A137: 11600-000024 | B137: CODE-STAT Maintenance Subscription (3 Years) | C137: EA | D137: 1 | E137: =_xlfn.XLOOKUP(A137,'Complete List'!A:A,'Complete List'!E:E) -> 2224 | F137: =1-(G137/E137) -> 0.13035072 | G137: 1934.1
A138: 78000200 | B138: CODE-STAT Data Review Service 1-10 | C138: EA | D138: 1 | E138: =_xlfn.XLOOKUP(A138,'Complete List'!A:A,'Complete List'!E:E) -> 935 | F138: =1-(G138/E138) -> 0.1 | G138: 841.5
A139: 78000201 | B139: CODE-STAT Data Review Service 11-24 | C139: EA | D139: 1 | E139: =_xlfn.XLOOKUP(A139,'Complete List'!A:A,'Complete List'!E:E) -> 1402 | F139: =1-(G139/E139) -> 0.1 | G139: 1261.8
A140: 78000221 | B140: CODE-STAT Data Review Service 25-50 | C140: EA | D140: 1 | E140: =_xlfn.XLOOKUP(A140,'Complete List'!A:A,'Complete List'!E:E) -> 3869 | F140: =1-(G140/E140) -> 0.13047299 | G140: 3364.2
A141: 78000222 | B141: CODE-STAT Data Review Service 51-100 | C141: EA | D141: 1 | E141: =_xlfn.XLOOKUP(A141,'Complete List'!A:A,'Complete List'!E:E) -> 8512 | F141: =1-(G141/E141) -> 0.13045113 | G141: 7401.6
A142: 78000223 | B142: CODE-STAT Data Review Service 101-200 | C142: EA | D142: 1 | E142: =_xlfn.XLOOKUP(A142,'Complete List'!A:A,'Complete List'!E:E) -> 16926 | F142: =1-(G142/E142) -> 0.13041475 | G142: 14718.6
A143: 78000224 | B143: CODE-STAT Data Review Service 201-300 | C143: EA | D143: 1 | E143: =_xlfn.XLOOKUP(A143,'Complete List'!A:A,'Complete List'!E:E) -> 24181 | F143: =1-(G143/E143) -> 0.13044539 | G143: 21026.7
A144: 78000225 | B144: CODE-STAT Data Review Service 301-400 | C144: EA | D144: 1 | E144: =_xlfn.XLOOKUP(A144,'Complete List'!A:A,'Complete List'!E:E) -> 33853 | F144: =1-(G144/E144) -> 0.13044043 | G144: 29437.2
A145: 78000226 | B145: CODE-STAT Data Review Service 401-500 | C145: EA | D145: 1 | E145: =_xlfn.XLOOKUP(A145,'Complete List'!A:A,'Complete List'!E:E) -> 43525 | F145: =1-(G145/E145) -> 0.13043768 | G145: 37847.7
A146: 78000227 | B146: CODE-STAT Data Review Service 501-600 | C146: EA | D146: 1 | E146: =_xlfn.XLOOKUP(A146,'Complete List'!A:A,'Complete List'!E:E) -> 53197 | F146: =1-(G146/E146) -> 0.13043593 | G146: 46258.2
A147: 78000228 | B147: CODE-STAT Data Review Service 601-700 | C147: EA | D147: 1 | E147: =_xlfn.XLOOKUP(A147,'Complete List'!A:A,'Complete List'!E:E) -> 62869 | F147: =1-(G147/E147) -> 0.13043471 | G147: 54668.7
A148: 78000229 | B148: CODE-STAT Data Review Service 701-800 | C148: EA | D148: 1 | E148: =_xlfn.XLOOKUP(A148,'Complete List'!A:A,'Complete List'!E:E) -> 72541 | F148: =1-(G148/E148) -> 0.13043382 | G148: 63079.2
A149: 78000230 | B149: CODE-STAT Data Review Service 801-900 | C149: EA | D149: 1 | E149: =_xlfn.XLOOKUP(A149,'Complete List'!A:A,'Complete List'!E:E) -> 82213 | F149: =1-(G149/E149) -> 0.13043314 | G149: 71489.7
... A155: 78000220 | B155: CODE-STAT Data Review Service 1401-1500 | C155: EA | D155: 1 | E155: =_xlfn.XLOOKUP(A155,'Complete List'!A:A,'Complete List'!E:E) -> 135503 | F155: =1-(G155/E155) -> 0.1 | G155: 121952.7
A156: 350-082-000 | B156: LARYNGOSCOPE,BLADES,MAC1,BOX O | C156: EA | D156: 1 | E156: =_xlfn.XLOOKUP(A156,'Complete List'!A:A,'Complete List'!E:E) -> 219 | F156: =1-(G156/E156) -> 0.14812785 | G156: 186.56
A157: 350-084-000 | B157: McGRATH MAC 2 Laryngoscope Blades, Box of 10 | C157: EA | D157: 1 | E157: =_xlfn.XLOOKUP(A157,'Complete List'!A:A,'Complete List'!E:E) -> 219 | F157: =1-(G157/E157) -> 0.14812785 | G157: 186.56
A158: 350-086-000 | B158: McGRATH MAC 3 Laryngoscope Blades, Box of 10 | C158: EA | D158: 1 | E158: =_xlfn.XLOOKUP(A158,'Complete List'!A:A,'Complete List'!E:E) -> 219 | F158: =1-(G158/E158) -> 0.14812785 | G158: 186.56
A159: 350-088-000 | B159: McGRATH MAC 4 Laryngoscope Blades, Box of 10 | C159: EA | D159: 1 | E159: =_xlfn.XLOOKUP(A159,'Complete List'!A:A,'Complete List'!E:E) -> 219 | F159: =1-(G159/E159) -> 0.14812785 | G159: 186.56
...

Sheet Complete List
A1: Item Number or Service | B1: Product/Service Description | C1: UOM | D1: QTY per UOM | E1: List Price 11/01/2024 | F1: % Discount | G1: Net Price
A2: 360-STR-US-10 | B2: HeartSine SAM 360P AED, Fully-automatic | C2: EA | D2: 1 | E2: 2498 | F2: =1-(G2/E2) -> 0.37185749 | G2: 1569.1
A3: 360-STR-US-AV | B3: HeartSine SAM 360P AED Aviation, Fully-Automatic | C3: EA | D3: 1 | E3: 2658 | F3: =1-(G3/E3) -> 0.37200903 | G3: 1669.2
A4: 360-STR-US-GW | B4: PACKAGE, 360P, Gateway, PP01, | C4: EA | D4: 1 | E4: 2846 | F4: =1-(G4/E4) -> 0.37192551 | G4: 1787.5
A5: 99512-001263 | B5: LPCR2 Fully-automatic, WIFI,English, Bag | C5: EA | D5: 1 | E5: 3535 | F5: =1-(G5/E5) -> 0.24647808 | G5: 2663.7
A6: 99512-001264 | B6: LPCR2 Fully-automatic, WIFI,English, Handle | C6: EA | D6: 1 | E6: 3434 | F6: =1-(G6/E6) -> 0.24634828 | G6: 2588.04
A7: 99512-001267 | B7: LPCR2 Fully-automatic, WIFI,English-Spanish, Bag | C7: EA | D7: 1 | E7: 3635 | F7: =1-(G7/E7) -> 0.2463934 | G7: 2739.36
A8: 99512-001268 | B8: LPCR2 Fully-automatic, WIFI,English-Spanish, Handle | C8: EA | D8: 1 | E8: 3535 | F8: =1-(G8/E8) -> 0.24647808 | G8: 2663.7
A9: 99512-001434 | B9: LPCR2 USB Fully-automatic, English, Handle | C9: EA | D9: 1 | E9: 3226 | F9: =1-(G9/E9) -> 0.24635462 | G9: 2431.26
A10: 99512-000970 | B10: LIFEPAK CR2 Cellular Defibrillator, Semi-Automatic, English, carrying case | C10: EA | D10: 1 | E10: 3367 | F10: =1-(G10/E10) -> 0.24640927 | G10: 2537.34
A11: 99512-001708 | B11: LIFEPAK CR2 Cellular Defibrillator, Semi-Automatic, English, handle | C11: EA | D11: 1 | E11: 3262 | F11: =1-(G11/E11) -> 0.24630288 | G11: 2458.56
A12: 99512-001709 | B12: LIFEPAK CR2 Cellular Defibrillator, Fully Automatic, English, carrying case | C12: EA | D12: 1 | E12: 3644 | F12: =1-(G12/E12) -> 0.24632821 | G12: 2746.38
A13: 99512-001710 | B13: LIFEPAK CR2 Cellular Defibrillator, Fully Automatic, English, handle | C13: EA | D13: 1 | E13: 3541 | F13: =1-(G13/E13) -> 0.24643321 | G13: 2668.38
... A332: 11600-000024 | B332: CODE-STAT Maintenance Subscription (3 Years) | C332: EA | D332: 1 | E332: 2224 | F332: =1-(G332/E332) -> 0.13035072 | G332: 1934.1
A333: 78000200 | B333: CODE-STAT Data Review Service 1-10 | C333: EA | D333: 1 | E333: 935 | F333: =1-(G333/E333) -> 0.1 | G333: 841.5
A334: 78000201 | B334: CODE-STAT Data Review Service 11-24 | C334: EA | D334: 1 | E334: 1402 | F334: =1-(G334/E334) -> 0.1 | G334: 1261.8
A335: 78000221 | B335: CODE-STAT Data Review Service 25-50 | C335: EA | D335: 1 | E335: 3869 | F335: =1-(G335/E335) -> 0.13047299 | G335: 3364.2
A336: 78000222 | B336: CODE-STAT Data Review Service 51-100 | C336: EA | D336: 1 | E336: 8512 | F336: =1-(G336/E336) -> 0.13045113 | G336: 7401.6
A337: 78000223 | B337: CODE-STAT Data Review Service 101-200 | C337: EA | D337: 1 | E337: 16926 | F337: =1-(G337/E337) -> 0.13041475 | G337: 14718.6
A338: 78000224 | B338: CODE-STAT Data Review Service 201-300 | C338: EA | D338: 1 | E338: 24181 | F338: =1-(G338/E338) -> 0.13044539 | G338: 21026.7
A339: 78000225 | B339: CODE-STAT Data Review Service 301-400 | C339: EA | D339: 1 | E339: 33853 | F339: =1-(G339/E339) -> 0.13044043 | G339: 29437.2
A340: 78000226 | B340: CODE-STAT Data Review Service 401-500 | C340: EA | D340: 1 | E340: 43525 | F340: =1-(G340/E340) -> 0.13043768 | G340: 37847.7
A341: 78000227 | B341: CODE-STAT Data Review Service 501-600 | C341: EA | D341: 1 | E341: 53197 | F341: =1-(G341/E341) -> 0.13043593 | G341: 46258.2
A342: 78000228 | B342: CODE-STAT Data Review Service 601-700 | C342: EA | D342: 1 | E342: 62869 | F342: =1-(G342/E342) -> 0.13043471 | G342: 54668.7
A343: 78000229 | B343: CODE-STAT Data Review Service 701-800 | C343: EA | D343: 1 | E343: 72541 | F343: =1-(G343/E343) -> 0.13043382 | G343: 63079.2
A344: 78000230 | B344: CODE-STAT Data Review Service 801-900 | C344: EA | D344: 1 | E344: 82213 | F344: =1-(G344/E344) -> 0.13043314 | G344: 71489.7
... A350: 78000220 | B350: CODE-STAT Data Review Service 1401-1500 | C350: EA | D350: 1 | E350: 135503 | F350: =1-(G350/E350) -> 0.1 | G350: 121952.7
A351: 350-082-000 | B351: LARYNGOSCOPE,BLADES,MAC1,BOX O | C351: EA | D351: 1 | E351: 219 | F351: =1-(G351/E351) -> 0.14812785 | G351: 186.56
A352: 350-084-000 | B352: McGRATH MAC 2 Laryngoscope Blades, Box of 10 | C352: EA | D352: 1 | E352: 219 | F352: =1-(G352/E352) -> 0.14812785 | G352: 186.56
A353: 350-086-000 | B353: McGRATH MAC 3 Laryngoscope Blades, Box of 10 | C353: EA | D353: 1 | E353: 219 | F353: =1-(G353/E353) -> 0.14812785 | G353: 186.56
A354: 350-088-000 | B354: McGRATH MAC 4 Laryngoscope Blades, Box of 10 | C354: EA | D354: 1 | E354: 219 | F354: =1-(G354/E354) -> 0.14812785 | G354: 186.56
A355: X3-003-000 | B355: McGRATH X3 Laryngoscope Blades, Box of 10 | C355: EA | D355: 1 | E355: 384 | F355: =1-(G355/E355) -> 0.14979167 | G355: 326.48
A356: 11996-000416 | B356: McGRATH MAC 4 Laryngoscope Blades, Box of 10 | C356: EA | D356: 1 | E356: 219 | F356: =1-(G356/E356) -> 0.14812785 | G356: 186.56
A357: 11996-000414 | B357: McGRATH MAC 2 Laryngoscope Blades, Box of 10 | C357: EA | D357: 1 | E357: 219 | F357: =1-(G357/E357) -> 0.14812785 | G357: 186.56
A358: 11996-000415 | B358: McGRATH MAC 3 Laryngoscope Blades, Box of 10 | C358: EA | D358: 1 | E358: 219 | F358: =1-(G358/E358) -> 0.14812785 | G358: 186.56
A359: 11101-000007 | B359: Defibrillation/ECG training electrodes | C359: EA | D359: 1 | E359: 42 | F359: =1-(G359/E359) -> 0.26785714 | G359: 30.75
A360: 11171-000010 | B360: Masimo SET LNOP Sp02 Sensor -Pediatric Reusable | C360: EA | D360: 1 | E360: 526 | F360: =1-(G360/E360) -> 0.2756654 | G360: 381
A361: 11171-000025 | B361: Masimo SET LNCS Patient Cable - 14 foot | C361: EA | D361: 1 | E361: 627 | F361: =1-(G361/E361) -> 0.27511962 | G361: 454.5
A362: 11171-000034 | B362: Masimo SET LNOP Sp02 Sensor -Neonatal (<10 KG) Disposable (1 box of 20 sensors) | C362: EA | D362: 1 | E362: 844 | F362: =1-(G362/E362) -> 0.27577014 | G362: 611.25
... A451: 21340-000706 | B451: LIFENET PC Gateway | C451: EA | D451: 1 | E451: 640 | F451: =1-(G451/E451) -> 0.1309375 | G451: 556.2
...
